BEGIN:VCALENDAR
VERSION:2.0
PRODID:-//Vallejo Naval &amp; Historical Museum - ECPv6.15.18//NONSGML v1.0//EN
CALSCALE:GREGORIAN
METHOD:PUBLISH
X-ORIGINAL-URL:https://vallejomuseum.net
X-WR-CALDESC:Events for Vallejo Naval &amp; Historical Museum
REFRESH-INTERVAL;VALUE=DURATION:PT1H
X-Robots-Tag:noindex
X-PUBLISHED-TTL:PT1H
BEGIN:VTIMEZONE
TZID:America/Los_Angeles
BEGIN:DAYLIGHT
TZOFFSETFROM:-0800
TZOFFSETTO:-0700
TZNAME:PDT
DTSTART:20230312T100000
END:DAYLIGHT
BEGIN:STANDARD
TZOFFSETFROM:-0700
TZOFFSETTO:-0800
TZNAME:PST
DTSTART:20231105T090000
END:STANDARD
BEGIN:DAYLIGHT
TZOFFSETFROM:-0800
TZOFFSETTO:-0700
TZNAME:PDT
DTSTART:20240310T100000
END:DAYLIGHT
BEGIN:STANDARD
TZOFFSETFROM:-0700
TZOFFSETTO:-0800
TZNAME:PST
DTSTART:20241103T090000
END:STANDARD
BEGIN:DAYLIGHT
TZOFFSETFROM:-0800
TZOFFSETTO:-0700
TZNAME:PDT
DTSTART:20250309T100000
END:DAYLIGHT
BEGIN:STANDARD
TZOFFSETFROM:-0700
TZOFFSETTO:-0800
TZNAME:PST
DTSTART:20251102T090000
END:STANDARD
BEGIN:DAYLIGHT
TZOFFSETFROM:-0800
TZOFFSETTO:-0700
TZNAME:PDT
DTSTART:20260308T100000
END:DAYLIGHT
BEGIN:STANDARD
TZOFFSETFROM:-0700
TZOFFSETTO:-0800
TZNAME:PST
DTSTART:20261101T090000
END:STANDARD
END:VTIMEZONE
BEGIN:VEVENT
DTSTART;VALUE=DATE:20240810
DTEND;VALUE=DATE:20250117
DTSTAMP:20260421T051309
CREATED:20240809T183958Z
LAST-MODIFIED:20260130T225815Z
UID:26032-1723248000-1737071999@vallejomuseum.net
SUMMARY:Submarines! Submerged Stories From The Silent Service
DESCRIPTION:Vallejo Naval & Historical Museum invites you to an in depth exhibit about the history of submarines. featuring many of the “boats” built here in Vallejo on Mare Island. Displays include: Priceless navy artifacts from the museum’s collection\, artworks\, oral histories\, photographs\, films\, audio\, video and much more! \nCurated by Paul Goodrum and Scott Stick. Special thanks to the board of the Mare Island Historic Park Foundation. \n\nAl Cole – Chief of the Boat – SSN 575 (USS Seawolf)\n \n\nJennifer Vaughn – Shop 38\n \n\nWilliam Gamble – Machinist Progressman\n \n\nWilliam Downs – Chief Test Engineer – Nuclear Department\n \n\nThomas Stick – Lt. Commander SSN-583 (USS Sargo)\n \n  \nHelen Zajac – Supervisory Supply Systems Analyst\, GS-12\n \n  \nCliff Neal – Nuclear Repair Superintendent\n \n  \nHoward Fitzpatrick – Project Manager\n \n  \nMare Island Closure\n \n  \nWilliam “Bill” Cruz – Shop 38 – Mechanical Shop Superintendent\n \n  \nJohn Watson – Head of Nuclear Performance Assessment Division\n \n  \nBill Gordon – Shop 64 – Joiner\n \n  \nJack Gray – Nuclear P.E.\n \n  \nDave Londeree – Shop38 – Foreman Machinist Marine\n \n  \nGuy Gray\n \n  \nLynn Combs – Shop 06 – Production Machinery Mechanic – Journeyman\n \n  \nPhil Lang – Machinery Repairman Second Class (E-5)\n \n  \nSubmerged! Submarine Soundscape\n \n  \nSpecial Projects and Ocean Engineering\n \n  \nThe Guitarro (SSN-665)
URL:https://vallejomuseum.net/event/submarines-submerged-stories-from-the-silent-service/
LOCATION:Vallejo Naval and Historical Museum\, 734 Marin Street\, Vallejo\, CA\, 94590\, United States
CATEGORIES:Online Exhibits
ATTACH;FMTTYPE=image/jpeg:https://vallejomuseum.net/wp-content/uploads/2024/08/Submarines.jpg
ORGANIZER;CN="Vallejo Naval and Historical Museum":MAILTO:vallejo.museum@gmail.com
END:VEVENT
BEGIN:VEVENT
DTSTART;VALUE=DATE:20240112
DTEND;VALUE=DATE:20250117
DTSTAMP:20260421T051309
CREATED:20240108T171202Z
LAST-MODIFIED:20260225T213537Z
UID:25055-1705017600-1737071999@vallejomuseum.net
SUMMARY:Vallejo Car Culture
DESCRIPTION:Vallejo Speedway – Bomber Racing\n \n  \nNick Razes\n \n\nSanchos Car Club\n \n  \nRalph Finley\n \n  \nThe 442 – Billy Gordon\n \n  \nHeggie\n \n  \nVallejo Speedway\n \n  \nManuel Angel\n \n  \nThe Swanx Car Club\n \n  \nLain Morrison\n \n\n4 Wheelin’ – Billy Gordon\n \n\nKwikShake Inn
URL:https://vallejomuseum.net/event/vallejo-car-culture/
LOCATION:Online Exhibit
CATEGORIES:Online Exhibits
ATTACH;FMTTYPE=image/jpeg:https://vallejomuseum.net/wp-content/uploads/2024/01/VNHM-Car-Culture-Banner-1920x1008-1.jpg
END:VEVENT
END:VCALENDAR